BEGIN:VCALENDAR
VERSION:2.0
PRODID:-//ChamberMaster//Event Calendar 2.0//EN
METHOD:PUBLISH
X-PUBLISHED-TTL:P3D
REFRESH-INTERVAL:P3D
CALSCALE:GREGORIAN
BEGIN:VEVENT
DTSTART:20160413T140000Z
DTEND:20160413T150000Z
X-MICROSOFT-CDO-ALLDAYEVENT:FALSE
SUMMARY:The Medina Club
DESCRIPTION:This is a monthly event to provide an avenue for local businesses to network and build relationships with the community. Bring your business cards and promotional information.\n\n\n\nThis month's  5 minute presenters:\n\nComplete Eye Care of Medina / Dr. Wesley\n\nHwy 55 Rental Ribbon Cutting
X-ALT-DESC;FMTTYPE=text/html:<font face="Calibri" size="3">This is a monthly event to provide an avenue for local businesses to network and build&nbsp\;relationships with the community. Bring your business cards and promotional information.<br />\n<br />\nThis month&#39\;s&nbsp\; 5 minute presenters:<br />\nComplete Eye Care of Medina / Dr. Wesley<br />\nHwy 55 Rental Ribbon Cutting</font><br />\n<br />\n<br />\n&nbsp\;
LOCATION:Hwy 55 Rental is hosting! 225 MN-55\, Hamel\, MN 55340
UID:e.1321.1704
SEQUENCE:3
DTSTAMP:20260422T030207Z
URL:https://business.i94westchamber.org/events/details/the-medina-club-04-13-2016-1704
END:VEVENT

END:VCALENDAR
