BEGIN:VCALENDAR
VERSION:2.0
PRODID:-//ChamberMaster//Event Calendar 2.0//EN
METHOD:PUBLISH
X-PUBLISHED-TTL:P3D
REFRESH-INTERVAL:P3D
CALSCALE:GREGORIAN
BEGIN:VEVENT
DTSTART:20150909T123000Z
DTEND:20150909T133000Z
X-MICROSOFT-CDO-ALLDAYEVENT:FALSE
SUMMARY:The Medina Club
DESCRIPTION:This is a monthly event to provide an avenue for local businesses to network and build relationships with the community. Bring your business cards and promotional information.\n\nMembers and non-Members welcome.\n\n\n\nLocation TBD
X-ALT-DESC;FMTTYPE=text/html:<font face="Calibri" size="3">This is a monthly event to provide an avenue for local businesses to network and build&nbsp\;relationships with the community. Bring your business cards and promotional information.<br />\nMembers and non-Members welcome.</font><br />\n<br />\n<span style="font-size: medium\;"><span style="font-family: calibri\;">Location TBD</span></span><br />\n&nbsp\;
LOCATION:TBD
UID:e.1321.1549
SEQUENCE:3
DTSTAMP:20260422T142157Z
URL:https://business.i94westchamber.org/events/details/the-medina-club-09-09-2015-1549
END:VEVENT

END:VCALENDAR
