BEGIN:VCALENDAR
VERSION:2.0
PRODID:-//ChamberMaster//Event Calendar 2.0//EN
METHOD:PUBLISH
X-PUBLISHED-TTL:P3D
REFRESH-INTERVAL:P3D
CALSCALE:GREGORIAN
BEGIN:VEVENT
DTSTART:20141210T170000Z
DTEND:20141210T180000Z
X-MICROSOFT-CDO-ALLDAYEVENT:FALSE
SUMMARY:The Medina Club
DESCRIPTION:This is a monthly event to provide an avenue for local businesses to network and build relationships with the community. Bring your business cards and promotional information!
X-ALT-DESC;FMTTYPE=text/html:<font face="Calibri" size="3">This is a monthly event to provide an avenue for local businesses to network and build&nbsp\;relationships with the community. Bring your business cards and promotional information!</font><br />\n&nbsp\;
LOCATION:The location of the networking group will be at the Medina Police & Public Works Facility at 600 Clydesdale Trail\, Medina\, MN 55340. The meetings will be in the training room. Please enter through the Public Works entrance and go down the hall and up the stairs or elevator to the second floor training room.
UID:e.1321.1248
SEQUENCE:3
DTSTAMP:20260424T141720Z
URL:https://business.i94westchamber.org/events/details/the-medina-club-12-10-2014-1248
END:VEVENT

END:VCALENDAR
