BEGIN:VCALENDAR
VERSION:2.0
PRODID:-//ChamberMaster//Event Calendar 2.0//EN
METHOD:PUBLISH
X-PUBLISHED-TTL:P3D
REFRESH-INTERVAL:P3D
CALSCALE:GREGORIAN
BEGIN:VEVENT
DTSTART:20170505T230000Z
DTEND:20170506T020000Z
X-MICROSOFT-CDO-ALLDAYEVENT:FALSE
SUMMARY:The Nest 2017 Banquet
DESCRIPTION:
X-ALT-DESC;FMTTYPE=text/html:
LOCATION:
UID:e.1321.2619
SEQUENCE:3
DTSTAMP:20260421T083507Z
URL:https://business.i94westchamber.org/events/details/the-nest-2017-banquet-2619
END:VEVENT

END:VCALENDAR
