BEGIN:VCALENDAR
VERSION:2.0
PRODID:-//ChamberMaster//Event Calendar 2.0//EN
METHOD:PUBLISH
X-PUBLISHED-TTL:P3D
REFRESH-INTERVAL:P3D
CALSCALE:GREGORIAN
BEGIN:VEVENT
DTSTART:20160506T230000Z
DTEND:20160507T020000Z
X-MICROSOFT-CDO-ALLDAYEVENT:FALSE
SUMMARY:The Nest Maternity Home's "Embracing Hope" Banquet
DESCRIPTION:Come join us for The Nest's Embracing Hope Fundraising Banquet and help us in our mission to help single pregnant women who do not have adequate shelter. The night will include silent auction\, buffet dinner\, program and offering.\n\n \n\nTickets are $30 or you can sponsor a table of eight for $210.\n\nTo purchase tickets\, click here or call 651-403-0145.\n\n \n\nInterested in donating for the silent auction\, or sponsoring the even?\n\nContact Cristal McClain at 651-403-0146 or info@thenestmn.org\, or click here and scroll down.\n\n \n\nAll proceeds go to support The Nest Maternity Home and their programs helping single pregnant women.\n\nThe Nest Maternity Home is a ministry of Youth With A Mission Minneapolis\, a nonprofit 501(c)(3) organization.
X-ALT-DESC;FMTTYPE=text/html:<div>Come join us for The Nest&#39\;s Embracing Hope Fundraising Banquet&nbsp\;and&nbsp\;help us in our mission to&nbsp\;help single&nbsp\;pregnant women who do not have adequate shelter.&nbsp\;The night will include silent auction\, buffet dinner\, program and offering.</div>\n\n<div>&nbsp\;</div>\n\n<div>Tickets are $30 or you can sponsor a table of eight for $210.</div>\n\n<div>To purchase tickets\, click <a href="http://www.thenestmn.org/banquet.html">here</a>&nbsp\;or call 651-403-0145.</div>\n\n<div>&nbsp\;</div>\n\n<div>Interested in donating for the silent auction\, or sponsoring the even?</div>\n\n<div>Contact Cristal McClain at 651-403-0146 or info@thenestmn.org\, or click <a href="http://www.thenestmn.org/banquet.html">here</a> and scroll down.</div>\n\n<div>&nbsp\;</div>\n\n<div><em>All proceeds go to support The Nest Maternity Home and their programs helping single pregnant women.</em></div>\n\n<div><em>The Nest Maternity Home is a ministry of Youth With A Mission Minneapolis\, a nonprofit 501(c)(3) organization.</em></div>\n\n<p>&nbsp\;</p>\n\n<p>&nbsp\;</p>\n
LOCATION:Saint Michael City Hall - Chamber Room
UID:e.1321.1883
SEQUENCE:3
DTSTAMP:20260422T014056Z
URL:https://business.i94westchamber.org/events/details/the-nest-maternity-home-s-embracing-hope-banquet-05-06-2016-1883
END:VEVENT

END:VCALENDAR
