BEGIN:VCALENDAR
VERSION:2.0
PRODID:-//ChamberMaster//Event Calendar 2.0//EN
METHOD:PUBLISH
X-PUBLISHED-TTL:P3D
REFRESH-INTERVAL:P3D
CALSCALE:GREGORIAN
BEGIN:VEVENT
DTSTART:20150113T223000Z
DTEND:20150114T003000Z
X-MICROSOFT-CDO-ALLDAYEVENT:FALSE
SUMMARY:The Night Club
DESCRIPTION:FREE After-Hours Networking. Appetizers provided\, cash bar.\n\nRSVP requested. Open to Non-Members.\n\ndjhartley@i94westchamber.org
X-ALT-DESC;FMTTYPE=text/html:FREE After-Hours Networking. Appetizers provided\, cash bar.<br />\nRSVP requested. Open to Non-Members.<br />\ndjhartley@i94westchamber.org
LOCATION:9100 Park Ave NE - Otsego\, Minnesota 55330 763-367-6790
UID:e.1321.1220
SEQUENCE:3
DTSTAMP:20260424T112418Z
URL:https://business.i94westchamber.org/events/details/the-night-club-01-13-2015-1220
END:VEVENT

END:VCALENDAR
