BEGIN:VCALENDAR
VERSION:2.0
PRODID:-//ChamberMaster//Event Calendar 2.0//EN
METHOD:PUBLISH
X-PUBLISHED-TTL:P3D
REFRESH-INTERVAL:P3D
CALSCALE:GREGORIAN
BEGIN:VEVENT
DTSTART:20150210T223000Z
DTEND:20150211T003000Z
X-MICROSOFT-CDO-ALLDAYEVENT:FALSE
SUMMARY:The Night Club
DESCRIPTION:After-Hours Networking. Appetizers provided\, cash bar.\n\nRSVP requested. Open to Non-Members.\n\ndjhartley@i94westchamber.org
X-ALT-DESC;FMTTYPE=text/html:After-Hours Networking. Appetizers provided\, cash bar.<br />\nRSVP requested. Open to Non-Members.<br />\ndjhartley@i94westchamber.org
LOCATION:15704 90th St NE\, Otsego\, MN 55330 (763) 595-1200
UID:e.1321.1257
SEQUENCE:3
DTSTAMP:20260424T100737Z
URL:https://business.i94westchamber.org/events/details/the-night-club-02-10-2015-1257
END:VEVENT

END:VCALENDAR
