BEGIN:VCALENDAR
VERSION:2.0
PRODID:-//ChamberMaster//Event Calendar 2.0//EN
METHOD:PUBLISH
X-PUBLISHED-TTL:P3D
REFRESH-INTERVAL:P3D
CALSCALE:GREGORIAN
BEGIN:VEVENT
DTSTART:20141111T223000Z
DTEND:20141112T003000Z
X-MICROSOFT-CDO-ALLDAYEVENT:FALSE
SUMMARY:The Night Club
DESCRIPTION:After-Hours Networking. Appetizers provided\, cash bar.
X-ALT-DESC;FMTTYPE=text/html:After-Hours Networking. Appetizers provided\, cash bar.
LOCATION:Rush Creek Golf Club Maple Grove\, MN
UID:e.1321.1203
SEQUENCE:3
DTSTAMP:20260424T141734Z
URL:https://business.i94westchamber.org/events/details/the-night-club-11-11-2014-1203
END:VEVENT

END:VCALENDAR
