BEGIN:VCALENDAR
VERSION:2.0
PRODID:-//ChamberMaster//Event Calendar 2.0//EN
METHOD:PUBLISH
X-PUBLISHED-TTL:P3D
REFRESH-INTERVAL:P3D
CALSCALE:GREGORIAN
BEGIN:VEVENT
DTSTART:20170513T153000Z
DTEND:20170513T163000Z
X-MICROSOFT-CDO-ALLDAYEVENT:FALSE
SUMMARY:This Writer's Journey: Christine Husom
DESCRIPTION:Minnesota author Christine Husom will share parts of her personal history and relate her experiences on the long road to publishing.
X-ALT-DESC;FMTTYPE=text/html:Minnesota author Christine Husom will share parts of her personal history and relate her experiences on the long road to publishing.
LOCATION:Rogers Library
UID:e.1321.2920
SEQUENCE:3
DTSTAMP:20260421T083507Z
URL:https://business.i94westchamber.org/events/details/this-writer-s-journey-christine-husom-2920
END:VEVENT

END:VCALENDAR
