BEGIN:VCALENDAR
VERSION:2.0
PRODID:-//ChamberMaster//Event Calendar 2.0//EN
METHOD:PUBLISH
X-PUBLISHED-TTL:P3D
REFRESH-INTERVAL:P3D
CALSCALE:GREGORIAN
BEGIN:VEVENT
DTSTART:20170423T000000Z
DTEND:20170423T013000Z
X-MICROSOFT-CDO-ALLDAYEVENT:FALSE
SUMMARY:Thérèse: The Story of a Soul
DESCRIPTION:St. Th r se of Lisieux is one of the most beloved saints of modern times. Th r se: The Story of a Soul.  St. Th r se speaks directly to the audience with warmth\, humor\, and insight. At the same time\, the production is not a sentimental portrait of the Little Flower. Rather\, it presents Th r se as a strong\, passionate young woman who had the courage to throw herself whole heartedly into the furnace of God's love. Th r se: The Story of a Soul is accompanied by a soul-stirring score composed by Sister Clare Sokol\, a Carmelite nun.
X-ALT-DESC;FMTTYPE=text/html:<p>St. Th&eacute\;r&egrave\;se of Lisieux is one of the most beloved saints of modern times. <em>Th&eacute\;r&egrave\;se: The Story of a Soul</em>.&nbsp\; St. Th&eacute\;r&egrave\;se speaks directly to the audience with warmth\, humor\, and insight. At the same time\, the production is not a sentimental portrait of the Little Flower. Rather\, it presents Th&eacute\;r&egrave\;se as a strong\, passionate young woman who had the courage to throw herself whole heartedly into the furnace of God&rsquo\;s love. <em>Th&eacute\;r&egrave\;se: The Story of a Soul </em>is accompanied by a soul-stirring score composed by Sister Clare Sokol\,&nbsp\;a Carmelite nun.</p>\n
LOCATION:Mary Queen of Peace Church St. Martin Campus in Rogers
UID:e.1321.2933
SEQUENCE:3
DTSTAMP:20260421T100422Z
URL:https://business.i94westchamber.org/events/details/th&#233;r&#232;se-the-story-of-a-soul-2933
END:VEVENT

END:VCALENDAR
