BEGIN:VCALENDAR
VERSION:2.0
PRODID:-//ChamberMaster//Event Calendar 2.0//EN
METHOD:PUBLISH
X-PUBLISHED-TTL:P3D
REFRESH-INTERVAL:P3D
CALSCALE:GREGORIAN
BEGIN:VEVENT
DTSTART:20161020T130000Z
DTEND:20161020T200000Z
X-MICROSOFT-CDO-ALLDAYEVENT:FALSE
SUMMARY:TIPS Shoulder\, Elbow\, Wrist\, & Hand Injury Prevention Workshop
DESCRIPTION:Shoulder Injury Care & Prevention 8am to NOON\n\n\n\nTIPS for Healthy Elbows\, Wrists\, & Hands 1PM to 3pm
X-ALT-DESC;FMTTYPE=text/html:Shoulder Injury Care &amp\; Prevention 8am to NOON<br />\n<br />\nTIPS for Healthy Elbows\, Wrists\, &amp\; Hands 1PM to 3pm
LOCATION:Target Sports Minnesota 14166 Northdale Blvd Rogers\, MN 55374
UID:e.1321.2469
SEQUENCE:3
DTSTAMP:20260421T185954Z
URL:https://business.i94westchamber.org/events/details/tips-shoulder-elbow-wrist-hand-injury-prevention-workshop-2469
END:VEVENT

END:VCALENDAR
