BEGIN:VCALENDAR
VERSION:2.0
PRODID:-//ChamberMaster//Event Calendar 2.0//EN
METHOD:PUBLISH
X-PUBLISHED-TTL:P3D
REFRESH-INTERVAL:P3D
CALSCALE:GREGORIAN
BEGIN:VEVENT
DTSTART:20221011T143000Z
DTEND:20221011T153000Z
X-MICROSOFT-CDO-ALLDAYEVENT:FALSE
SUMMARY:Tour & Coffee at Lakeside Academy in Buffalo
DESCRIPTION:Join us for coffee\, juice & rolls and a tour of Lakeside Academy\, a program of MN Adult & Teen Challenge. Lakeside Academy is located on Lake Charlotte just west of Hanover\, off of Cty. Rd. 34.
X-ALT-DESC;FMTTYPE=text/html:Join us for coffee\, juice &amp\; rolls and a tour of Lakeside Academy\, a program of MN Adult &amp\; Teen Challenge.&nbsp\;Lakeside Academy is located on Lake Charlotte just west of Hanover\, off of Cty. Rd. 34.
LOCATION:100 Garrison Ave. NE Buffalo\, MN 55313
UID:e.1321.7428
SEQUENCE:3
DTSTAMP:20260421T113453Z
URL:https://business.i94westchamber.org/events/details/tour-coffee-at-lakeside-academy-in-buffalo-7428
END:VEVENT

END:VCALENDAR
