BEGIN:VCALENDAR
VERSION:2.0
PRODID:-//ChamberMaster//Event Calendar 2.0//EN
METHOD:PUBLISH
X-PUBLISHED-TTL:P3D
REFRESH-INTERVAL:P3D
CALSCALE:GREGORIAN
BEGIN:VEVENT
DTSTART:20140624T170000Z
DTEND:20140624T180000Z
X-MICROSOFT-CDO-ALLDAYEVENT:FALSE
SUMMARY:Transportation Focus Group
DESCRIPTION:Transportation Focus Group\n\n\n\nPlease join us for a discussion of Minnesota's transportation system and help the Minnesota Chamber of Commerce shape its policy and position for the 2015 Legislative Session. The chorus for more funding is becoming louder - where do you stand? How do greater efficiencies help to build and sustain our transportation infrastructure?\n\n\n\nThe discussion will be facilitated by Bentley Graves\, Director of Transportation Policy for the Minnesota Chamber of Commerce\, and will be held on 12 noon Tuesday\, June 24\, 2014 at the I-94 West Chamber of Commerce office. We want to hear from you - if you cannot attend\, please consider sending another representative from your company.\n\n\n\nWhat are your views on the state of Minnesota's transportation infrastructure\, including highways\, bridges\, roads\, and transit?\n\n	Do you think new investment is needed?\n	How much - and what - do you want for your money?\n	Can we push state agencies to be more efficient?\n	Are there any good revenue options for local governments?\n\nWe'll bring the background information and questions\; you bring the perspective to help us identify what the business community needs and expects from our state's transportation infrastructure.\n\n\n\nPlease join us at noon on Tuesday\, June 24\, 2014 at the Chamber office to discuss this critical topic - likely a major feature of the 2015 Legislative Session. A box lunch will be served.\n\n\n\nRSVP to Joan Harmon at the Minnesota Chamber: jharmon@mnchamber.com or 651-292-4695
X-ALT-DESC;FMTTYPE=text/html:<span style="font-size:14px\;"><strong>Transportation Focus Group</strong></span><br />\n<br />\nPlease join us for a discussion of Minnesota&#39\;s transportation system and help the Minnesota Chamber of Commerce shape its policy and position for the 2015 Legislative Session. The chorus for more funding is becoming louder - where do you stand? How do greater efficiencies help to build and sustain our transportation infrastructure?<br />\n<br />\nThe discussion will be facilitated by Bentley Graves\, Director of Transportation Policy for the Minnesota Chamber of Commerce\, and will be held on 12 noon Tuesday\, June 24\, 2014 at the I-94 West Chamber of Commerce office. We want to hear from you - if you cannot attend\, please consider sending another representative from your company.<br />\n<br />\nWhat are your views on the state of Minnesota&#39\;s transportation infrastructure\, including highways\, bridges\, roads\, and transit?\n<ul>\n	<li>Do you think new investment is needed?</li>\n	<li>How much - and what - do you want for your money?</li>\n	<li>Can we push state agencies to be more efficient?</li>\n	<li>Are there any good revenue options for local governments?</li>\n</ul>\nWe&#39\;ll bring the background information and questions\; you bring the perspective to help us identify what the business community needs and expects from our state&#39\;s transportation infrastructure.<br />\n<br />\nPlease join us at noon on Tuesday\, June 24\, 2014 at the Chamber office to discuss this critical topic - likely a major feature of the 2015 Legislative Session. A box lunch will be served.<br />\n<br />\nRSVP to Joan Harmon at the Minnesota Chamber: <a href="mailto:jharmon@mnchamber.com">jharmon@mnchamber.com</a> or 651-292-4695
LOCATION:I-94 West Chamber of Commerce 21370 John Milless Drive Rogers\, MN 55374
UID:e.1321.1134
SEQUENCE:3
DTSTAMP:20260424T205934Z
URL:https://business.i94westchamber.org/events/details/transportation-focus-group-06-24-2014-1134
END:VEVENT

END:VCALENDAR
