BEGIN:VCALENDAR
VERSION:2.0
PRODID:-//ChamberMaster//Event Calendar 2.0//EN
METHOD:PUBLISH
X-PUBLISHED-TTL:P3D
REFRESH-INTERVAL:P3D
CALSCALE:GREGORIAN
BEGIN:VEVENT
DTSTART:20150321T160000Z
DTEND:20150321T170000Z
X-MICROSOFT-CDO-ALLDAYEVENT:FALSE
SUMMARY:Treasure Beyond Measure
DESCRIPTION:As one of Cap'n Curley's rookie pirates\, you will embark on a comedy-filled adventure looking for treasure and gaining insight into the greatest treasure of them all. Children (birth to six )
X-ALT-DESC;FMTTYPE=text/html:<span style="font-family:calibri\,sans-serif\;"><span style="font-size:11.0pt\;">As one of Cap&#39\;n Curley&#39\;s rookie pirates\, you will embark on a comedy-filled adventure looking for treasure and gaining insight into the greatest treasure of them all.</span></span> <span style="font-family:calibri\,sans-serif\;"><span style="font-size:11.0pt\;">Children (birth to six</span></span><span style="font-family:calibri\,sans-serif\;"><span style="font-size:11.0pt\;"> )</span></span>
LOCATION:Rogers Library 21300 John Milless Dr. Rogers\, MN 55374
UID:e.1321.1484
SEQUENCE:3
DTSTAMP:20260424T083212Z
URL:https://business.i94westchamber.org/events/details/treasure-beyond-measure-03-21-2015-1484
END:VEVENT

END:VCALENDAR
