BEGIN:VCALENDAR
VERSION:2.0
PRODID:-//ChamberMaster//Event Calendar 2.0//EN
METHOD:PUBLISH
X-PUBLISHED-TTL:P3D
REFRESH-INTERVAL:P3D
CALSCALE:GREGORIAN
BEGIN:VEVENT
DTSTART:20161112T201500Z
DTEND:20161112T211500Z
X-MICROSOFT-CDO-ALLDAYEVENT:FALSE
SUMMARY:Try Hockey for Free - Rogers
DESCRIPTION:Try Hockey for Free\n\nFor kids\, between the ages of 4 to 9\; a great opportunity that is a completely free experience to try youth hockey.  Event includes rental skates\, bike helmets\, and an opportunity to try Mite equipment.  If you have your own hockey gear\, even better.  Pre-register at www.TryHockeyForFree.com.
X-ALT-DESC;FMTTYPE=text/html:<em><strong><span style="color:#505050\;"><span style="font-family:arial\,sans-serif\;"><span style="font-size:10.5pt\;">Try Hockey for Free</span></span></span></strong></em><br />\n<span style="color:#505050\;"><span style="font-family:arial\,sans-serif\;"><span style="font-size:10.5pt\;">For kids\, between the ages of 4 to 9\; a great opportunity that is a completely free experience to try youth hockey.&nbsp\; Event includes rental skates\, bike helmets\, and an opportunity to try Mite equipment.&nbsp\; If you have your own hockey gear\, even better.&nbsp\; Pre-register at <a href="http://cityofrogers.us2.list-manage.com/track/click?u=5d64a50795b75ad3ed3f9fe1c&amp\;id=1ed3c125e0&amp\;e=0324325e4f"><span style="color:#336699\;">www.TryHockeyForFree.com</span></a>. &nbsp\;</span></span></span><br />\n<br />\n&nbsp\;
LOCATION:Rogers Ice Arena/RAC 2180 141st Ave N\, Rogers
UID:e.1321.2515
SEQUENCE:3
DTSTAMP:20260421T173306Z
URL:https://business.i94westchamber.org/events/details/try-hockey-for-free-rogers-2515
END:VEVENT

END:VCALENDAR
