BEGIN:VCALENDAR
VERSION:2.0
PRODID:-//ChamberMaster//Event Calendar 2.0//EN
METHOD:PUBLISH
X-PUBLISHED-TTL:P3D
REFRESH-INTERVAL:P3D
CALSCALE:GREGORIAN
BEGIN:VEVENT
DTSTART:20170117T183000Z
DTEND:20170117T200000Z
X-MICROSOFT-CDO-ALLDAYEVENT:FALSE
SUMMARY:Tuesday Luncheon at 101 Market
DESCRIPTION:Tuesday Luncheon\n\n\n\n \n\n\n\nTheme Luncheon\n\nEvery third Tuesday of the month we invite you to join us for lunch. The four-course menu will include unlimited pots of fresh brewed coffee\, a warm scone\, soup du jour\, chef's choice sandwich or entree and dessert. The menu will be served on vintage china and fine linen. This is a special relaxing time to spend visiting with a colleague\, friend or neighbor. It's time to come for coffee!\n\nCost: $25\n\n12:30 p.m. to 2:00 p.m.\n\nRegistration is required one week prior to the scheduled date
X-ALT-DESC;FMTTYPE=text/html:<div class="flex_column_table av-equal-height-column-flextable">\n<div class="flex_column av_three_fifth  flex_column_table_cell av-equal-height-column av-align-middle   avia-builder-el-3  el_after_av_two_fifth  el_before_av_hr  " style="padding:50px\; background-color:rgba(255\,255\,255\,0.8)\; border-radius:0px\; ">\n<section class="av_textblock_section" itemscope="itemscope" itemtype="https://schema.org/CreativeWork">\n<div class="avia_textblock " itemprop="text">\n<h1 style="text-align: center\;"><span style="font-size: 36pt\; color: #000000\;">Tuesday Luncheon</span></h1>\n</div>\n</section>\n\n<div class="hr hr-invisible  avia-builder-el-5  el_after_av_textblock  el_before_av_textblock " style="height:10px">&nbsp\;</div>\n\n<section class="av_textblock_section" itemscope="itemscope" itemtype="https://schema.org/CreativeWork">\n<div class="avia_textblock " itemprop="text">\n<h3 style="text-align: center\;"><span style="font-size: 18pt\; color: #206040\;">Theme Luncheon</span></h3>\n\n<p style="text-align: center\;">Every third Tuesday of the month we invite you to join us for lunch.&nbsp\;The four-course menu will include unlimited pots of fresh brewed coffee\, a warm scone\, soup du jour\, chef&rsquo\;s choice sandwich or entree and dessert. The menu will be served on vintage china and fine linen. This is a special relaxing time to spend visiting with a colleague\, friend or neighbor.&nbsp\;It&rsquo\;s time to come for coffee!</p>\n\n<h4 style="text-align: center\;">Cost: $25<br />\n12:30 p.m. to 2:00 p.m.<br />\n<span style="text-decoration: underline\;">Registration<strong>&nbsp\;is required one week prior to the scheduled date</strong></span></h4>\n</div>\n</section>\n</div>\n</div>\n
LOCATION:
UID:e.1321.2594
SEQUENCE:3
DTSTAMP:20260421T144103Z
URL:https://business.i94westchamber.org/events/details/tuesday-luncheon-at-101-market-2594
END:VEVENT

END:VCALENDAR
