BEGIN:VCALENDAR
VERSION:2.0
PRODID:-//ChamberMaster//Event Calendar 2.0//EN
METHOD:PUBLISH
X-PUBLISHED-TTL:P3D
REFRESH-INTERVAL:P3D
CALSCALE:GREGORIAN
BEGIN:VEVENT
DTSTART:20141115T000000Z
DTEND:20141115T030000Z
X-MICROSOFT-CDO-ALLDAYEVENT:FALSE
SUMMARY:Turkey Bingo
DESCRIPTION:Bring your family\, or invite a friend or neighbor & enjoy an evening of fun and a chance to win your Thanksgiving turkey.
X-ALT-DESC;FMTTYPE=text/html:Bring your family\, or invite a friend or neighbor &amp\; enjoy an evening of fun and a chance to win your Thanksgiving turkey.
LOCATION:St. John the Baptist Church\, Dayton
UID:e.1321.1286
SEQUENCE:3
DTSTAMP:20260424T141522Z
URL:https://business.i94westchamber.org/events/details/turkey-bingo-11-14-2014-1286
END:VEVENT

END:VCALENDAR
