BEGIN:VCALENDAR
VERSION:2.0
PRODID:-//ChamberMaster//Event Calendar 2.0//EN
METHOD:PUBLISH
X-PUBLISHED-TTL:P3D
REFRESH-INTERVAL:P3D
CALSCALE:GREGORIAN
BEGIN:VEVENT
DTSTART:20150415T160000Z
DTEND:20150415T183000Z
X-MICROSOFT-CDO-ALLDAYEVENT:FALSE
SUMMARY:Twin Cities Business Women Leaders 2015
DESCRIPTION:HIGHLIGHTS\n	Person Of The Year\n	2014 Business Event Dining Guide\n	The TCB 100\n	Family Business Awards: In Pictures\n\n\n\n\n \n\n\n\n\n\n2015 Women Leaders\n\n\nWhere: Golden Valley Golf and Country Club\n\n7001 Golden Valley Road \, Golden Valley \, MN\, 55427\n\nWhen: Wednesday\, April 15\, 2015\, 11:00 AM\nThe 2015 Women Leaders luncheon will be held on Wednesday\, April 15\, 2015. Tickets are $50.00 per ticket or $500.00 per table of 10. More information to come.
X-ALT-DESC;FMTTYPE=text/html:<div class="sub-nav">\n<ul>\n	<li style="border: 0px currentColor\; color: rgb(205\, 20\, 50)\; font-weight: bold\;">HIGHLIGHTS</li>\n	<li><a href="http://tcbmag.com/Honors-and-Events/Person-of-the-Year/2014-Person-Of-The-Year-Mayo-Clinic-President-And" target=""><font color="#0066cc">Person Of The Year</font></a></li>\n	<li><a href="http://tcbmag.com/Lists-and-Research/Lists/2014-Business-Event-Dining-Guide" target=""><font color="#0066cc">2014 Business Event Dining Guide</font></a></li>\n	<li><a href="http://tcbmag.com/Honors-and-Events/Minnesotans-You-Should-Know/100-People-To-Know-In-2015" target=""><font color="#0066cc">The TCB 100</font></a></li>\n	<li style="margin: 0px\; padding: 0px\; border: 0px currentColor\;"><a href="http://tcbmag.com/Honors-and-Events/Minnesota-Family-Business-Awards/2014-Minnesota-Family-Business-Awards-Event-Photos" target=""><font color="#0066cc">Family Business Awards: In Pictures</font></a></li>\n</ul>\n</div>\n\n<div class="pencil"><!-- TCB_Pencil -->\n<div id="div-gpt-ad-1335467027197-3" style="display: none\;">&nbsp\;</div>\n</div>\n\n<div class="entry-content">\n<div class="basic-content-container">\n<div class="basic-left">\n<h1>2015 Women Leaders</h1>\n\n<div class="basic-body">\n<p><strong>Where:</strong> Golden Valley Golf and Country Club</p>\n\n<p>7001 Golden Valley Road \, Golden Valley \, MN\, 55427</p>\n\n<p><strong>When:</strong> Wednesday\, April 15\, 2015\, 11:00 AM</p>\nThe 2015 Women Leaders luncheon will be held on Wednesday\, April 15\, 2015. Tickets are $50.00 per ticket or $500.00 per table of 10. More information to come.</div>\n</div>\n</div>\n</div>\n
LOCATION:
UID:e.1321.1372
SEQUENCE:3
DTSTAMP:20260422T200611Z
URL:https://business.i94westchamber.org/events/details/twin-cities-business-women-leaders-2015-04-15-2015-1372
END:VEVENT

END:VCALENDAR
