BEGIN:VCALENDAR
VERSION:2.0
PRODID:-//ChamberMaster//Event Calendar 2.0//EN
METHOD:PUBLISH
X-PUBLISHED-TTL:P3D
REFRESH-INTERVAL:P3D
CALSCALE:GREGORIAN
BEGIN:VEVENT
DTSTART:20170429T153000Z
DTEND:20170429T170000Z
X-MICROSOFT-CDO-ALLDAYEVENT:FALSE
SUMMARY:Upcycled Book Art for Adults/Seniors
DESCRIPTION:Learn easy and creative ideas for upcycling used books into fun and useful items. See examples of many used book creations and make a folded book project to take home. Materials provided.                                                      Sponsor: Friends of the Rogers Library.
X-ALT-DESC;FMTTYPE=text/html:Learn easy and creative ideas for upcycling used books into fun and useful items. See examples of many used book creations and make a folded book project to take home. Materials provided.&nbsp\;&nbsp\;&nbsp\;&nbsp\;&nbsp\;&nbsp\;&nbsp\;&nbsp\;&nbsp\;&nbsp\;&nbsp\;&nbsp\;&nbsp\;&nbsp\;&nbsp\;&nbsp\;&nbsp\;&nbsp\;&nbsp\;&nbsp\;&nbsp\;&nbsp\;&nbsp\;&nbsp\;&nbsp\;&nbsp\;&nbsp\;&nbsp\;&nbsp\;&nbsp\;&nbsp\;&nbsp\;&nbsp\;&nbsp\;&nbsp\;&nbsp\;&nbsp\;&nbsp\;&nbsp\;&nbsp\;&nbsp\;&nbsp\;&nbsp\;&nbsp\;&nbsp\;&nbsp\;&nbsp\;&nbsp\;&nbsp\;&nbsp\;&nbsp\;&nbsp\;&nbsp\; Sponsor: Friends of the Rogers Library.
LOCATION:
UID:e.1321.2918
SEQUENCE:3
DTSTAMP:20260421T100345Z
URL:https://business.i94westchamber.org/events/details/upcycled-book-art-for-adults-seniors-2918
END:VEVENT

END:VCALENDAR
