BEGIN:VCALENDAR
VERSION:2.0
PRODID:-//ChamberMaster//Event Calendar 2.0//EN
METHOD:PUBLISH
X-PUBLISHED-TTL:P3D
REFRESH-INTERVAL:P3D
CALSCALE:GREGORIAN
BEGIN:VEVENT
DTSTART:20170420T220000Z
DTEND:20170421T010000Z
X-MICROSOFT-CDO-ALLDAYEVENT:FALSE
SUMMARY:Used Book Sale
DESCRIPTION:Bargain hunters and book lovers take note: the Friends of the Rogers Library will hold a sale of hundreds of adult and children's fiction and nonfiction books in hardcover and paperback. All books are withdrawn from the Hennepin County Library system or donated by the public and will be priced $1 or less. Funds raised will benefit the library. Donations of used books in good condition accepted throughout the year.\n\nThursday\, April 20\, 5-8 p.m.\n\nFriday\, April 21\, 9 a.m.-5 p.m.\n\nSaturday\, April 22\, 9 a.m.-2 p.m.
X-ALT-DESC;FMTTYPE=text/html:<div>\n<p>Bargain hunters and book lovers take note: the Friends of the Rogers Library will hold a sale of hundreds of adult and children&#39\;s fiction and nonfiction books in hardcover and paperback. All books are withdrawn from the Hennepin County Library system or donated by the public and will be priced $1 or less. Funds raised will benefit the library. Donations of used books in good condition accepted throughout the year.</p>\n\n<p>Thursday\, April 20\, 5-8 p.m.</p>\n\n<p>Friday\, April 21\, 9 a.m.-5 p.m.</p>\n\n<p>Saturday\, April 22\, 9 a.m.-2 p.m.</p>\n</div>\n
LOCATION:Rogers Library
UID:e.1321.2917
SEQUENCE:3
DTSTAMP:20260421T100032Z
URL:https://business.i94westchamber.org/events/details/used-book-sale-2917
END:VEVENT

END:VCALENDAR
