BEGIN:VCALENDAR
VERSION:2.0
PRODID:-//ChamberMaster//Event Calendar 2.0//EN
METHOD:PUBLISH
X-PUBLISHED-TTL:P3D
REFRESH-INTERVAL:P3D
CALSCALE:GREGORIAN
BEGIN:VEVENT
DTSTART:20150425T140000Z
DTEND:20150425T220000Z
X-MICROSOFT-CDO-ALLDAYEVENT:FALSE
SUMMARY:Used Book Sale - Rogers Library
DESCRIPTION:Bargain hunters and book lovers take note: The Friends of the Library will hold a sale of hundreds of adult and children's books. Funds raised will benefit the Library.
X-ALT-DESC;FMTTYPE=text/html:Bargain hunters and book lovers take note: The Friends of the Library will hold a sale of hundreds of adult and children&#39\;s books. Funds raised will benefit the Library.
LOCATION:21300 John Milless Dr. Rogers \, MN 55374 612-543-6050
UID:e.1321.1386
SEQUENCE:3
DTSTAMP:20260422T195812Z
URL:https://business.i94westchamber.org/events/details/used-book-sale-rogers-library-04-25-2015-1386
END:VEVENT

END:VCALENDAR
