BEGIN:VCALENDAR
VERSION:2.0
PRODID:-//ChamberMaster//Event Calendar 2.0//EN
METHOD:PUBLISH
X-PUBLISHED-TTL:P3D
REFRESH-INTERVAL:P3D
CALSCALE:GREGORIAN
BEGIN:VEVENT
DTSTART:20160514T150000Z
DTEND:20160514T210000Z
X-MICROSOFT-CDO-ALLDAYEVENT:FALSE
SUMMARY:Used Books\, Brats\, Bake Sale and Blood Drive
DESCRIPTION:Welcome to Holy Trinity Episcopal Church\nUSED BOOKS\, BRATS AND BAKERY SPRING SALE! Mark your calendar for the Regional/Community-Wide Annual Used Books\, Brats and Bake Sale on Saturday\, May 14\, 2016\, 10:00 am to 4:00 pm! Come for delicious baked cakes\, cookies\, bars\, plenty of used books and phenomenal brats! Want to donate blood and save a life? Memorial Blood Centers will be at the Holy Trinity Bloodmobile the same day from 10:00 am to 2:00 pm. See you and your family then!
X-ALT-DESC;FMTTYPE=text/html:<h1 style="text-align:start">Welcome to Holy Trinity Episcopal Church</h1>\n<span style="background-color:rgb(255\, 255\, 255)\; color:rgb(40\, 43\, 55)\; font-family:helvetica\; font-size:14px">USED BOOKS\, BRATS AND BAKERY SPRING SALE! Mark your calendar for the Regional/Community-Wide Annual Used Books\, Brats and Bake Sale on Saturday\, May 14\, 2016\, 10:00 am to 4:00 pm! Come for delicious baked cakes\, cookies\, bars\, plenty of used books and phenomenal brats! Want to donate blood and save a life? Memorial Blood Centers will be at the Holy Trinity Bloodmobile the same day from 10:00 am to 2:00 pm. See you and your family then!</span>
LOCATION:1326 4th Street Elk River\, Mn 55330
UID:e.1321.1923
SEQUENCE:3
DTSTAMP:20260422T014300Z
URL:https://business.i94westchamber.org/events/details/used-books-brats-bake-sale-and-blood-drive-05-14-2016-1923
END:VEVENT

END:VCALENDAR
