BEGIN:VCALENDAR
VERSION:2.0
PRODID:-//ChamberMaster//Event Calendar 2.0//EN
METHOD:PUBLISH
X-PUBLISHED-TTL:P3D
REFRESH-INTERVAL:P3D
CALSCALE:GREGORIAN
BEGIN:VEVENT
DTSTART:20160813T150000Z
DTEND:20160813T152000Z
X-MICROSOFT-CDO-ALLDAYEVENT:FALSE
SUMMARY:Veteran's Memorial Groundbreaking
DESCRIPTION:Veteran's Point Memorial Ground-breaking
X-ALT-DESC;FMTTYPE=text/html:Veteran&#39\;s Point Memorial Ground-breaking
LOCATION:downtown St. Michael east of Dunn Brothers Coffee
UID:e.1321.2390
SEQUENCE:3
DTSTAMP:20260421T213551Z
URL:https://business.i94westchamber.org/events/details/veteran-s-memorial-groundbreaking-08-13-2016-2390
END:VEVENT

END:VCALENDAR
