BEGIN:VCALENDAR
VERSION:2.0
PRODID:-//ChamberMaster//Event Calendar 2.0//EN
METHOD:PUBLISH
X-PUBLISHED-TTL:P3D
REFRESH-INTERVAL:P3D
CALSCALE:GREGORIAN
BEGIN:VEVENT
DTSTART:20170119T230000Z
DTEND:20170120T023000Z
X-MICROSOFT-CDO-ALLDAYEVENT:FALSE
SUMMARY:Vine & Stein / Wine & Craft Beer Tasting
DESCRIPTION:
X-ALT-DESC;FMTTYPE=text/html:
LOCATION:Rush Creek Golf Club
UID:e.1321.2400
SEQUENCE:3
DTSTAMP:20260421T143801Z
URL:https://business.i94westchamber.org/events/details/vine-stein-wine-craft-beer-tasting-2400
END:VEVENT

END:VCALENDAR
