BEGIN:VCALENDAR
VERSION:2.0
PRODID:-//ChamberMaster//Event Calendar 2.0//EN
METHOD:PUBLISH
X-PUBLISHED-TTL:P3D
REFRESH-INTERVAL:P3D
CALSCALE:GREGORIAN
BEGIN:VEVENT
DTSTART:20160227T170000Z
DTEND:20160227T200000Z
X-MICROSOFT-CDO-ALLDAYEVENT:FALSE
SUMMARY:Vinland's 7th Winter WalkAbout Snowshoe Event
DESCRIPTION:Vinland National Center's 7th Annual Winter Walkabout Snowshoe event is Saturday\, February 27th from 11:00 a.m. to 2:00 p.m.
X-ALT-DESC;FMTTYPE=text/html:<span style="color:#1F497D\;"><span style="font-family:calibri\,sans-serif\;"><span style="font-size:11.0pt\;">Vinland National Center&rsquo\;s 7<sup>th</sup> Annual Winter Walkabout Snowshoe event is Saturday\, February 27<sup>th</sup> from 11:00 a.m. to 2:00 p.m.</span></span></span>
LOCATION:Vinland National Center - Main Campus 3675 Ihduhapi Road\, Loretto\, Minnesota 55357 Phone: 763.479.3555 | Fax: 763.479.2605
UID:e.1321.1813
SEQUENCE:3
DTSTAMP:20260422T054349Z
URL:https://business.i94westchamber.org/events/details/vinland-s-7th-winter-walkabout-snowshoe-event-02-27-2016-1813
END:VEVENT

END:VCALENDAR
