BEGIN:VCALENDAR
VERSION:2.0
PRODID:-//ChamberMaster//Event Calendar 2.0//EN
METHOD:PUBLISH
X-PUBLISHED-TTL:P3D
REFRESH-INTERVAL:P3D
CALSCALE:GREGORIAN
BEGIN:VEVENT
DTSTART:20150523T160000Z
DTEND:20150524T000000Z
X-MICROSOFT-CDO-ALLDAYEVENT:FALSE
SUMMARY:Vom Fass Open House
DESCRIPTION:Saturday Open Houses 11am   7pm\n\nStop in and sample recipes made with featured products\n\nMay 9 and 16\n\nCocktails and Salads for the Cabin!\n\n\n\nMay 23 and 30th\n\nCook out!  Fresh and simple.
X-ALT-DESC;FMTTYPE=text/html:<strong><u><span style="color:#C00000\;"><span style="font-family:times new roman\,serif\;"><span style="font-size:10.0pt\;">Saturday Open Houses 11am &ndash\; 7pm</span></span></span></u></strong><br />\n<span style="font-family:times new roman\,serif\;"><span style="font-size:10.0pt\;">Stop in and sample recipes made with featured products</span></span><br />\n<strong><span style="font-family:times new roman\,serif\;"><span style="font-size:10.0pt\;">May 9 and 16</span></span></strong><br />\n<span style="font-family:times new roman\,serif\;"><span style="font-size:10.0pt\;">Cocktails and Salads for the Cabin!</span></span><br />\n<br />\n<strong><span style="font-family:times new roman\,serif\;"><span style="font-size:10.0pt\;">May 23 and 30th</span></span></strong><br />\n<span style="font-family:times new roman\,serif\;"><span style="font-size:10.0pt\;">Cook out!&nbsp\; Fresh and simple.</span></span>
LOCATION:Vom Fass Maple Grove
UID:e.1321.1564
SEQUENCE:3
DTSTAMP:20260422T183725Z
URL:https://business.i94westchamber.org/events/details/vom-fass-open-house-05-23-2015-1564
END:VEVENT

END:VCALENDAR
