BEGIN:VCALENDAR
VERSION:2.0
PRODID:-//ChamberMaster//Event Calendar 2.0//EN
METHOD:PUBLISH
X-PUBLISHED-TTL:P3D
REFRESH-INTERVAL:P3D
CALSCALE:GREGORIAN
BEGIN:VEVENT
DTSTART:20150530T160000Z
DTEND:20150531T000000Z
X-MICROSOFT-CDO-ALLDAYEVENT:FALSE
SUMMARY:Vom Fass Open House
DESCRIPTION:Saturday Open Houses 11am to 7pm\n\nStop in and sample recipes made with featured products\n\n\n\nMay 30th\n\nCook out!  Fresh and simple.
X-ALT-DESC;FMTTYPE=text/html:<strong><u><span style="color:#C00000\;"><span style="font-family:times new roman\,serif\;"><span style="font-size:10.0pt\;">Saturday Open Houses 11am to 7pm</span></span></span></u></strong><br />\n<span style="font-family:times new roman\,serif\;"><span style="font-size:10.0pt\;">Stop in and sample recipes made with featured products</span></span><br />\n<br />\n<strong><span style="font-family:times new roman\,serif\;"><span style="font-size:10.0pt\;">May 30th</span></span></strong><br />\n<span style="font-family:times new roman\,serif\;"><span style="font-size:10.0pt\;">Cook out!&nbsp\; Fresh and simple.</span></span>
LOCATION:Vom Fass Arbor Lakes Maple Grove
UID:e.1321.1565
SEQUENCE:3
DTSTAMP:20260422T183726Z
URL:https://business.i94westchamber.org/events/details/vom-fass-open-house-05-30-2015-1565
END:VEVENT

END:VCALENDAR
