BEGIN:VCALENDAR
VERSION:2.0
PRODID:-//ChamberMaster//Event Calendar 2.0//EN
METHOD:PUBLISH
X-PUBLISHED-TTL:P3D
REFRESH-INTERVAL:P3D
CALSCALE:GREGORIAN
BEGIN:VEVENT
DTSTART:20150522T000000Z
DTEND:20150522T013000Z
X-MICROSOFT-CDO-ALLDAYEVENT:FALSE
SUMMARY:Vom Fass Spirit & Liqueurs Tasting / RSVP Required
DESCRIPTION:Thursday Night Tasting Parties\n\nComplimentary small bites will be served.  Space is limited.  Registration required.  email info@vomfassmaplegrovemn.com or call the store at 763-416-0409\n\n\n\nMay 21 7pm - 8:30pm\n\nSpirits and Liqueurs from Yahara Bay Craft Distillery
X-ALT-DESC;FMTTYPE=text/html:<strong><u><span style="color:#C00000\;"><span style="font-family:times new roman\,serif\;"><span style="font-size:10.0pt\;">Thursday Night Tasting Parties</span></span></span></u></strong><br />\n<span style="font-family:times new roman\,serif\;"><span style="font-size:10.0pt\;">Complimentary small bites will be served.&nbsp\; Space is limited.&nbsp\; Registration required.&nbsp\; email </span></span><a href="mailto:info@vomfassmaplegrovemn.com"><span style="font-family:times new roman\,serif\;"><span style="font-size:10.0pt\;">info@vomfassmaplegrovemn.com</span></span></a><span style="font-family:times new roman\,serif\;"><span style="font-size:10.0pt\;"> or call the store at 763-416-0409</span></span><br />\n<br />\n<strong><span style="font-family:times new roman\,serif\;"><span style="font-size:10.0pt\;">May 21 7pm - 8:30pm</span></span></strong><br />\n<span style="font-family:times new roman\,serif\;"><span style="font-size:10.0pt\;">Spirits and Liqueurs from Yahara Bay Craft Distillery</span></span><br />\n&nbsp\;
LOCATION:Shoppes at Arbor Lakes 12115 Elm Creek Blvd Maple Grove\, MN
UID:e.1321.1561
SEQUENCE:3
DTSTAMP:20260422T184052Z
URL:https://business.i94westchamber.org/events/details/vom-fass-spirit-liqueurs-tasting-rsvp-required-05-21-2015-1561
END:VEVENT

END:VCALENDAR
