BEGIN:VCALENDAR
VERSION:2.0
PRODID:-//ChamberMaster//Event Calendar 2.0//EN
METHOD:PUBLISH
X-PUBLISHED-TTL:P3D
REFRESH-INTERVAL:P3D
CALSCALE:GREGORIAN
BEGIN:VEVENT
DTSTART:20150527T210000Z
DTEND:20150528T000000Z
X-MICROSOFT-CDO-ALLDAYEVENT:FALSE
SUMMARY:Vom Fass Wine Tasting
DESCRIPTION:Celebrate spring and attend an event at Vom Fass!\n\nPlease visit the Events page at www.vomfassmaplegrovemn.com for more details including discounts on the events listed.\n\n \n\nWednesday 20th  and 27th  4pm-7pm\n\nWine Tastings\n\nStop in to sample featured wines and small bites.
X-ALT-DESC;FMTTYPE=text/html:<strong><span style="font-family:times new roman\,serif\;"><span style="font-size:10.0pt\;">Celebrate spring and attend an event at Vom Fass!</span></span></strong><br />\n<span style="font-family:times new roman\,serif\;"><span style="font-size:10.0pt\;">Please visit the Events page at </span></span><a href="http://www.vomfassmaplegrovemn.com"><span style="font-family:times new roman\,serif\;"><span style="font-size:10.0pt\;">www.vomfassmaplegrovemn.com</span></span></a><span style="font-family:times new roman\,serif\;"><span style="font-size:10.0pt\;"> for more details including discounts on the events listed.</span></span><br />\n&nbsp\;<br />\n<strong><u><span style="color:#C00000\;"><span style="font-family:times new roman\,serif\;"><span style="font-size:10.0pt\;">Wednesday 20th&nbsp\; and 27th&nbsp\; 4pm-7pm</span></span></span></u></strong><br />\n<strong><span style="font-family:times new roman\,serif\;"><span style="font-size:10.0pt\;">Wine Tastings</span></span></strong><br />\n<span style="font-family:times new roman\,serif\;"><span style="font-size:10.0pt\;">Stop in to sample featured wines and small bites.&nbsp\; &nbsp\;</span></span><br />\n<br />\n&nbsp\;
LOCATION:Vom Fass Shoppes at Arbor Lakes 12115 Elm Creek Blvd N Maple Grove\, MN 55369
UID:e.1321.1560
SEQUENCE:3
DTSTAMP:20260422T183657Z
URL:https://business.i94westchamber.org/events/details/vom-fass-wine-tasting-05-27-2015-1560
END:VEVENT

END:VCALENDAR
