BEGIN:VCALENDAR
VERSION:2.0
PRODID:-//ChamberMaster//Event Calendar 2.0//EN
METHOD:PUBLISH
X-PUBLISHED-TTL:P3D
REFRESH-INTERVAL:P3D
CALSCALE:GREGORIAN
BEGIN:VEVENT
DTSTART:20141016T120000Z
DTEND:20141016T140000Z
X-MICROSOFT-CDO-ALLDAYEVENT:FALSE
SUMMARY:WCCO Breakfast
DESCRIPTION:WCCO Radio's Business Breakfast Series\, hosted by Jordana Green\, presented by Western Bank and Ahmann-Martin. Join in the discussion regarding Franchises and Start-ups. Get the help you need to determine if becoming a Franchise owner is right for you or should you start up your own business. Panelists will cover the importance of knowing your potential startup expenses\, what you need to know as a new business owner or new franchisee. Discover the industries that are new\, or that you might not have considered. Get advice on the wide range of financial options that can help you get started.
X-ALT-DESC;FMTTYPE=text/html:<span class="GeneralBody" id="webcontent_EventDetailDescription1_lblEventDescription">WCCO Radio&rsquo\;s Business Breakfast Series\, hosted by Jordana Green\, presented by Western Bank and Ahmann-Martin. Join in the discussion regarding Franchises and Start-ups. Get the help you need to determine if becoming a Franchise owner is right for you or should you start up your own business. Panelists will cover the importance of knowing your potential startup expenses\, what you need to know as a new business owner or new franchisee. Discover the industries that are new\, or that you might not have considered. Get advice on the wide range of financial options that can help you get started.</span>
LOCATION:CAMBRIA Gallery on 7th 625 2nd Ave S #101 625 2nd Ave S #101 Minneapolis\, MN 55402 DIRECTIONS CAMBRIA Gallery on 7th 625 2nd Ave S #101 Minneapolis\, MN 55402
UID:e.1321.1251
SEQUENCE:3
DTSTAMP:20260424T153844Z
URL:https://business.i94westchamber.org/events/details/wcco-breakfast-10-16-2014-1251
END:VEVENT

END:VCALENDAR
