BEGIN:VCALENDAR
VERSION:2.0
PRODID:-//ChamberMaster//Event Calendar 2.0//EN
METHOD:PUBLISH
X-PUBLISHED-TTL:P3D
REFRESH-INTERVAL:P3D
CALSCALE:GREGORIAN
BEGIN:VEVENT
DTSTART:20161208T220000Z
DTEND:20161209T000000Z
X-MICROSOFT-CDO-ALLDAYEVENT:FALSE
SUMMARY:WCEDP - Holiday Networking & Social
DESCRIPTION:
X-ALT-DESC;FMTTYPE=text/html:
LOCATION:
UID:e.1321.2575
SEQUENCE:3
DTSTAMP:20260421T171846Z
URL:https://business.i94westchamber.org/events/details/wcedp-holiday-networking-social-2575
END:VEVENT

END:VCALENDAR
