BEGIN:VCALENDAR
VERSION:2.0
PRODID:-//ChamberMaster//Event Calendar 2.0//EN
METHOD:PUBLISH
X-PUBLISHED-TTL:P3D
REFRESH-INTERVAL:P3D
CALSCALE:GREGORIAN
BEGIN:VEVENT
DTSTART:20150312T163000Z
DTEND:20150312T180000Z
X-MICROSOFT-CDO-ALLDAYEVENT:FALSE
SUMMARY:WCEDP State of the City
DESCRIPTION:Please join the Wright County Economic Development Partnership for Part 1 of the "State of the Cities" for 2015.\n\n\n\nCities of Albertville\, Delano\, Hanover\, Montrose\, Otsego\, & St. Michael are presenting.
X-ALT-DESC;FMTTYPE=text/html:Please join the Wright County Economic Development Partnership for Part 1 of the &quot\;State of the Cities&quot\; for 2015.<br />\n<br />\nCities of Albertville\, Delano\, Hanover\, Montrose\, Otsego\, &amp\; St. Michael are presenting.
LOCATION:
UID:e.1321.1423
SEQUENCE:3
DTSTAMP:20260424T083815Z
URL:https://business.i94westchamber.org/events/details/wcedp-state-of-the-city-03-12-2015-1423
END:VEVENT

END:VCALENDAR
