BEGIN:VCALENDAR
VERSION:2.0
PRODID:-//ChamberMaster//Event Calendar 2.0//EN
METHOD:PUBLISH
X-PUBLISHED-TTL:P3D
REFRESH-INTERVAL:P3D
CALSCALE:GREGORIAN
BEGIN:VEVENT
DTSTART:20160127T233000Z
DTEND:20160128T013000Z
X-MICROSOFT-CDO-ALLDAYEVENT:FALSE
SUMMARY:WEE: Women's Entrepreneurial Experience Kick-Off
DESCRIPTION:Have dreams of starting your own business? Looking for a professional mentor? Want to explore new career opportunities that allow you to make a greater impact? If any of the above describes you and you are a woman between the ages of 18-30\, please join us for the Women's Entrepreneurial Experience (WEE) Kick-Off! WEE is a mentoring program designed to help young women learn more about the world of entrepreneurialism and small business. It partners with the Minnesota chapters of the Women Presidents? Organization (WPO)\, and many of these women business owners will be at the event for you to meet and learn from. 5:45-6:15pm: Panel discussion with 3-4 WPO members sharing their stories\, followed by Q&A 6:15-7:00pm: Speed dating- Meet WPO members one on one and learn how they came to own their business 7:00-7:30pm: Networking- WPO members are always looking to meet young talent There will be another event March 8th at Clockwork Active Media\, and sponsorships available for a number of young women to attend the WPO Annual Conference April 7-9 in Baltimore\, MD. We look forward to seeing you there- you just might meet your next mentor or boss! Please invite other women you think would be interested! This event is FREE and all are welcome. More information about WEE: https://sayyess.com/articles/wee/ More about WPO: https://www.womenpresidentsorg.com/ Direct questions to ali@sayyess.com
X-ALT-DESC;FMTTYPE=text/html:Have dreams of starting your own business? Looking for a professional mentor? Want to explore new career opportunities that allow you to make a greater impact? If any of the above describes you and you are a woman between the ages of 18-30\, please join us for the Women&#39\;s Entrepreneurial Experience (WEE) Kick-Off! WEE is a mentoring program designed to help young women learn more about the world of entrepreneurialism and small business. It partners with the Minnesota chapters of the Women Presidents? Organization (WPO)\, and many of these women business owners will be at the event for you to meet and learn from. 5:45-6:15pm: Panel discussion with 3-4 WPO members sharing their stories\, followed by Q&amp\;A 6:15-7:00pm: Speed dating- Meet WPO members one on one and learn how they came to own their business 7:00-7:30pm: Networking- WPO members are always looking to meet young talent There will be another event March 8th at Clockwork Active Media\, and sponsorships available for a number of young women to attend the WPO Annual Conference April 7-9 in Baltimore\, MD. We look forward to seeing you there- you just might meet your next mentor or boss! Please invite other women you think would be interested! This event is FREE and all are welcome. More information about WEE: https://sayyess.com/articles/wee/ More about WPO: https://www.womenpresidentsorg.com/ Direct questions to ali@sayyess.com
LOCATION:2501 Wayzata Blvd\, Minneapolis\, Minnesota 55405
UID:e.1321.1848
SEQUENCE:3
DTSTAMP:20260422T070059Z
URL:https://business.i94westchamber.org/events/details/wee-women-s-entrepreneurial-experience-kick-off-01-27-2016-1848
END:VEVENT

END:VCALENDAR
