BEGIN:VCALENDAR
VERSION:2.0
PRODID:-//ChamberMaster//Event Calendar 2.0//EN
METHOD:PUBLISH
X-PUBLISHED-TTL:P3D
REFRESH-INTERVAL:P3D
CALSCALE:GREGORIAN
BEGIN:VEVENT
DTSTART:20160914T130000Z
DTEND:20160914T143000Z
X-MICROSOFT-CDO-ALLDAYEVENT:FALSE
SUMMARY:Why don't employees come to work motivated?
DESCRIPTION:North Star SHRM will be hosting a seminar titled: Why Don't Employees Come to Work Motivated?  on Wednesday\, September 14\, 2016 from 8 am to 9:30 am. All North Star SHRM members are invited to attend.  In addition\, all Elk River\, Monticello\, and I-94 West Chamber members are invited to attend.  There is no cost to attend.\n\nThe target audience for this seminar is HR professionals and small business owners.  A recent study concluded that only 26% of all employees are performing at their full potential.  Will that level of performance enable you to thrive in this highly competitive global market place?  Leaders possess an immense amount of power in creating a motivational environment for their employees.  This fast moving and engaging program will show how executing the fundamentals of leadership greatly impact the motivational choices employees make to work faster\, harder and smarter.  Conversely\, this program will show the unintended consequences of choosing not to execute their job description.  Think money is the ultimate motivator\, think again!  Learning objectives are:\n\n	Discover how managers create behaviors they don't want and what to do about them\n	Be able to fulfill employee motivational needs\n	Recognize the impact of generational issues when motivating the workforce\n	Achieve dramatic improvements in employee motivation and performance\n	Get employees to want to come to work\n\nThis seminar will be presented by John Graci.\n\n \n\nJohn Graci is an Author\, Consultant\, and Leadership Advisor with more than 20 years of management experience in production\, office\, union and non-union environments.  He has the unique ability to look at the leader and employee relationship in straightforward terms which allows him to coach managers through the process of changing their employees' attitudes and performances.  John also assists leaders in understanding the responsibilities that go along with their position and the consequences of not applying their knowledge.  John possesses a folksy\, tell-it-like-it-is approach that comes across as refreshing and riveting.  Executives often thank him for articulating\, in very practical terms\, what they have been trying to get across to their employees for years.\n\nJohn has a Bachelor of Science in Speech Communication from UW-River Falls and is a frequent presenter at SHRM events.
X-ALT-DESC;FMTTYPE=text/html:North Star SHRM will be hosting a seminar titled<strong>: Why Don&rsquo\;t Employees Come to Work Motivated?&nbsp\; on Wednesday\, September 14\, 2016 from 8 am to 9:30 am</strong>. All North Star SHRM members are invited to attend.&nbsp\; In addition\, all Elk River\, Monticello\, and I-94 West Chamber members are invited to attend.&nbsp\; There is no cost to attend.<br />\nThe target audience for this seminar is HR professionals and small business owners.&nbsp\; A recent study concluded that only 26% of all employees are performing at their full potential.&nbsp\; Will that level of performance enable you to thrive in this highly competitive global market place?&nbsp\; Leaders possess an immense amount of power in creating a motivational environment for their employees.&nbsp\; This fast moving and engaging program will show how executing the fundamentals of leadership greatly impact the motivational choices employees make to work faster\, harder and smarter. &nbsp\;Conversely\, this program will show the unintended consequences of choosing not to execute their job description.&nbsp\; Think money is the ultimate motivator\, think again!&nbsp\; Learning objectives are:\n<ul>\n	<li>Discover how managers create behaviors they don&rsquo\;t want and what to do about them</li>\n	<li>Be able to fulfill employee motivational needs</li>\n	<li>Recognize the impact of generational issues when motivating the workforce</li>\n	<li>Achieve dramatic improvements in employee motivation and performance</li>\n	<li>Get employees to want to come to work</li>\n</ul>\nThis seminar will be presented by John Graci.<br />\n&nbsp\;<br />\nJohn Graci is an Author\, Consultant\, and Leadership Advisor with more than 20 years of management experience in production\, office\, union and non-union environments.&nbsp\; He has the unique ability to look at the leader and employee relationship in straightforward terms which allows him to coach managers through the process of changing their employees&rsquo\; attitudes and performances.&nbsp\; John also assists leaders in understanding the responsibilities that go along with their position and the consequences of not applying their knowledge.&nbsp\; John possesses a folksy\, tell-it-like-it-is approach that comes across as refreshing and riveting.&nbsp\; Executives often thank him for articulating\, in very practical terms\, what they have been trying to get across to their employees for years.<br />\nJohn has a Bachelor of Science in Speech Communication from UW-River Falls and is a frequent presenter at SHRM events.
LOCATION:It will be held at Guardian Angels Senior Services (508 Freeport Avenue NW\, Suite A\, Elk River)
UID:e.1321.2397
SEQUENCE:3
DTSTAMP:20260421T201142Z
URL:https://business.i94westchamber.org/events/details/why-don-t-employees-come-to-work-motivated-09-14-2016-2397
END:VEVENT

END:VCALENDAR
