BEGIN:VCALENDAR
VERSION:2.0
PRODID:-//ChamberMaster//Event Calendar 2.0//EN
METHOD:PUBLISH
X-PUBLISHED-TTL:P3D
REFRESH-INTERVAL:P3D
CALSCALE:GREGORIAN
BEGIN:VEVENT
DTSTART:20170330T223000Z
DTEND:20170331T003000Z
X-MICROSOFT-CDO-ALLDAYEVENT:FALSE
SUMMARY:Wine Tasting
DESCRIPTION:Join us for a Taste of Spring! Sample many fine wines from select vendors along with delightful small bites.\nMarch 30th ? 5:30pm-7:30pm\n\nTickets are only $25/per person\n\nWine Club Members only $20/per person\n\nVendors include\n\n21 Barriques\n\nBellboy\n\nWorld Class Wines\n\nSmall Lot\n\nTradition\n\nPhillips\n\nPaustis
X-ALT-DESC;FMTTYPE=text/html:Join us for a Taste of Spring! Sample many fine wines from select vendors along with delightful small bites.\n<p>March 30th ? 5:30pm-7:30pm</p>\n\n<h3>Tickets are only $25/per person</h3>\n\n<h3>Wine Club Members only $20/per person</h3>\n\n<p><strong>Vendors include</strong><br />\n21 Barriques<br />\nBellboy<br />\nWorld Class Wines<br />\nSmall Lot<br />\nTradition<br />\nPhillips<br />\nPaustis</p>\n
LOCATION:Pour Wine Bar & Bistro 15704 90th Street Otsego\, MN 55330
UID:e.1321.2912
SEQUENCE:3
DTSTAMP:20260421T112622Z
URL:https://business.i94westchamber.org/events/details/wine-tasting-2912
END:VEVENT

END:VCALENDAR
