BEGIN:VCALENDAR
VERSION:2.0
PRODID:-//ChamberMaster//Event Calendar 2.0//EN
METHOD:PUBLISH
X-PUBLISHED-TTL:P3D
REFRESH-INTERVAL:P3D
CALSCALE:GREGORIAN
BEGIN:VEVENT
DTSTART:20170325T180000Z
DTEND:20170325T193000Z
X-MICROSOFT-CDO-ALLDAYEVENT:FALSE
SUMMARY:Wolves at our Door
DESCRIPTION:Learn about wolf biology\, predator-prey dynamics\, and habitat\, and discuss myths and fears about wolves in this interactive program presented by staff from Ely's International Wolf Center. Partner: International Wolf Center.r
X-ALT-DESC;FMTTYPE=text/html:Learn about wolf biology\, predator-prey dynamics\, and habitat\, and discuss myths and fears about wolves in this interactive program presented by staff from Ely&#39\;s International Wolf Center. Partner: International Wolf Center.r
LOCATION:Rogers Library
UID:e.1321.2904
SEQUENCE:3
DTSTAMP:20260421T112930Z
URL:https://business.i94westchamber.org/events/details/wolves-at-our-door-2904
END:VEVENT

END:VCALENDAR
