BEGIN:VCALENDAR
VERSION:2.0
PRODID:-//ChamberMaster//Event Calendar 2.0//EN
METHOD:PUBLISH
X-PUBLISHED-TTL:P3D
REFRESH-INTERVAL:P3D
CALSCALE:GREGORIAN
BEGIN:VEVENT
DTSTART:20221013T200000Z
DTEND:20221013T220000Z
X-MICROSOFT-CDO-ALLDAYEVENT:FALSE
SUMMARY:Women's Networking Group at BK Tap Haus & Bourbon Room
DESCRIPTION:Want to learn a little about bourbon? This month will be doing a bourbon tasting! \n\nThe Women's Networking group is an opportunity for women to network with each other! This includes sharing advice\, feedback\, or support from other women on business questions / concerns as well as  developing camaraderie and friendships\, and to further strengthen relationships!
X-ALT-DESC;FMTTYPE=text/html:<div style="caret-color: rgb(0\, 0\, 0)\; color: rgb(0\, 0\, 0)\; font-family: -webkit-standard\; text-size-adjust: auto\;">\n<div style="caret-color: rgb(0\, 0\, 0)\; color: rgb(0\, 0\, 0)\; font-family: -webkit-standard\; text-size-adjust: auto\;"><span style="font-family:calibri\,sans-serif\;"><span style="font-size:11.0pt\;">Want to learn a little about bourbon? This month will be doing a bourbon tasting! </span></span></div>\n\n<p style="caret-color: rgb(0\, 0\, 0)\; color: rgb(0\, 0\, 0)\; font-family: -webkit-standard\; text-size-adjust: auto\;"><span style="font-family: Arial\, sans-serif\;">The Women&#39\;s Networking group is an opportunity for women to network with each other! This includes sharing advice\, feedback\, or support from other women on business questions / concerns as well as&nbsp\;&nbsp\;developing camaraderie and friendships\, and to further strengthen relationships!</span></p>\n</div>\n
LOCATION:BK Tap Haus & Bourbon Room\, St. Michael
UID:e.1321.7407
SEQUENCE:3
DTSTAMP:20260421T113446Z
URL:https://business.i94westchamber.org/events/details/women-s-networking-group-at-bk-tap-haus-bourbon-room-7407
END:VEVENT

END:VCALENDAR
