BEGIN:VCALENDAR
VERSION:2.0
PRODID:-//ChamberMaster//Event Calendar 2.0//EN
METHOD:PUBLISH
X-PUBLISHED-TTL:P3D
REFRESH-INTERVAL:P3D
CALSCALE:GREGORIAN
BEGIN:VEVENT
DTSTART;VALUE=DATE:20120908
DTEND;VALUE=DATE:20120909
TRANSP:TRANSPARENT
X-MICROSOFT-CDO-ALLDAYEVENT:TRUE
SUMMARY:Women's Only Permit to Carry Training - Roger's Cabela's
DESCRIPTION:Join Lucinda and Rosie\, NRA Certified and MN Certified Instructors\, for a great day of training.  The New Shooters permit to carry class is a combination of the NRA Pistol and Permit to Carry Carry.   A great learning environment for the ladies.  Learn about the 2nd Amendment\, self protection\, handgun safety and more in this Women's only class which when completed with allow you to apply for your MN permit to Carry.\n\n\n\nCall Laura at 219-252-1631 for info and to register.
X-ALT-DESC;FMTTYPE=text/html:Join Lucinda and Rosie\, NRA Certified and MN Certified Instructors\, for a great day of training.&nbsp\; The New Shooters permit to carry class is a combination of the NRA Pistol and Permit to Carry Carry.&nbsp\;&nbsp\; A great learning environment for the ladies.&nbsp\; Learn about the 2nd Amendment\, self protection\, handgun safety and more in this Women&#39\;s only class which when completed with allow you to apply for your MN permit to Carry.<br />\n<br />\nCall Laura at 219-252-1631 for info and to register.&nbsp\; 
LOCATION:Rogers Cabela's
UID:e.1321.665
SEQUENCE:3
DTSTAMP:20260426T015233Z
URL:https://business.i94westchamber.org/events/details/women-s-only-permit-to-carry-training-roger-s-cabela-s-09-08-2012-665
END:VEVENT

END:VCALENDAR
