BEGIN:VCALENDAR
VERSION:2.0
PRODID:-//ChamberMaster//Event Calendar 2.0//EN
METHOD:PUBLISH
X-PUBLISHED-TTL:P3D
REFRESH-INTERVAL:P3D
CALSCALE:GREGORIAN
BEGIN:VEVENT
DTSTART:20140723T231500Z
DTEND:20140724T000000Z
X-MICROSOFT-CDO-ALLDAYEVENT:FALSE
SUMMARY:Young Living Essential Oils
DESCRIPTION:Please join us at Healthsource of Rogers for an eveing all about Young Living Essential Oils!  Jackie will be here filling us in on all the great benefits these oils have to offer.\n\n\n\nSamples of the oils and wine will be included!\n\n\n\nFree community event\, come one come all!\n\n\n\nPlease call with any questions\, (763)-428-1105
X-ALT-DESC;FMTTYPE=text/html:Please join us at Healthsource of Rogers for an eveing all about <u><strong>Young Living Essential Oils!</strong></u> &nbsp\;Jackie will be here filling us in on all the great benefits these oils have to offer.<br />\n<br />\n<em>Samples of the oils and wine will be included!</em><br />\n<br />\nFree community event\, come one come all!<br />\n<br />\nPlease call with any questions\, (763)-428-1105
LOCATION:Healthsource Rogers
UID:e.1321.1159
SEQUENCE:3
DTSTAMP:20260424T193942Z
URL:https://business.i94westchamber.org/events/details/young-living-essential-oils-07-23-2014-1159
END:VEVENT

END:VCALENDAR
